BEGIN:VCALENDAR
VERSION:2.0
PRODID:-//SCHUBs Vertriebskonzepte - ECPv6.15.20//NONSGML v1.0//EN
CALSCALE:GREGORIAN
METHOD:PUBLISH
X-ORIGINAL-URL:https://schubs.com
X-WR-CALDESC:Veranstaltungen für SCHUBs Vertriebskonzepte
REFRESH-INTERVAL;VALUE=DURATION:PT1H
X-Robots-Tag:noindex
X-PUBLISHED-TTL:PT1H
BEGIN:VTIMEZONE
TZID:Europe/Berlin
BEGIN:DAYLIGHT
TZOFFSETFROM:+0100
TZOFFSETTO:+0200
TZNAME:CEST
DTSTART:20250330T010000
END:DAYLIGHT
BEGIN:STANDARD
TZOFFSETFROM:+0200
TZOFFSETTO:+0100
TZNAME:CET
DTSTART:20251026T010000
END:STANDARD
BEGIN:DAYLIGHT
TZOFFSETFROM:+0100
TZOFFSETTO:+0200
TZNAME:CEST
DTSTART:20260329T010000
END:DAYLIGHT
BEGIN:STANDARD
TZOFFSETFROM:+0200
TZOFFSETTO:+0100
TZNAME:CET
DTSTART:20261025T010000
END:STANDARD
BEGIN:DAYLIGHT
TZOFFSETFROM:+0100
TZOFFSETTO:+0200
TZNAME:CEST
DTSTART:20270328T010000
END:DAYLIGHT
BEGIN:STANDARD
TZOFFSETFROM:+0200
TZOFFSETTO:+0100
TZNAME:CET
DTSTART:20271031T010000
END:STANDARD
END:VTIMEZONE
BEGIN:VEVENT
DTSTART;TZID=Europe/Berlin:20260127T083000
DTEND;TZID=Europe/Berlin:20260217T100000
DTSTAMP:20260422T030557
CREATED:20251107T081350Z
LAST-MODIFIED:20260114T142130Z
UID:7126-1769502600-1771322400@schubs.com
SUMMARY:KI Marketing​‑Praxistraining  für Augenoptiker
DESCRIPTION:4-teilige Webinar-Serie: KI Kompetenz & Marketing​‑Training für Augenoptiker\nMehr Sichtbarkeit\, mehr Content\, mehr Kunden – mit KI KnowHow & Power für Ihr Marketing \nDieses praxisorientierte Seminar vermittelt Ihnen nicht nur einen umfangreichen Mix aus KI und Marketingwissen. Sie lernen darüber hinaus\, KI gezielt in der Vermarktung Ihres augenoptischen Unternehmens einzusetzen.\nDadurch steigern Sie Ihre Sichtbarkeit\, schärfen Ihre Positionierung und sprechen Ihre Wunschkunden gezielt an – für effizienteres Marketing\, mehr Kundenkontakt und ein kompetentes\, innovatives Markenimage. \n\n\n\n🗓 Ablauf & Inhalte\nWebinar 1 – Chancen und Wettbewerbsvorteile mit KI erkennen\nDi 27. Jan\, 08:30-10:00 Uhr (Online)\n\nEinführung in die generative KI – Chancen und Grenzen\nAnwendungsbeispiele für die KI-Nutzung im augenoptischen Fachgeschäft\nFunktionsweise von LLMs (Large Language Models) und Toolüberblick\nEffektives Prompting für ChatGPT & Co.\n\nWebinar 2 – Mit KI neuen Schwung ins Marketing bringen\n03. Februar\, 08:30-10:00Uhr (Online)\n\nProfessionell mit den einzelnen Modellen & Funktionen von Chat GPT arbeiten\nIndividualisierung von Chat GPT für mehr Kontext & authentischen Content\nFortgeschrittene Promptingmethoden\nKreative KI-Nutzung für Social Media & Content\nTextbearbeitung mit KI (Canvas Modus)\n\nWebinar 3 – Die KI für Recherche & Analyse\n10. Februar\, 08:30-10:00 Uhr (Online)\n\nEinfluss von KI auf das Kundenverhalten: KI-Search und was sich dadurch ändert\nWie eine Customer Journey funktioniert\nAus SEO wird GEO: Nur wer gefunden wird\, landet auf der Shopping-Liste der Generation Prompt\nEigene Online-Präsenz mit KI analysieren & optimieren\nRecherche Prompts für Wettbewerbsanalyse\nProjektbezogenes Arbeiten mit KI\n\nWebinar 4 – Die KI als Marketingstratege\n17. Februar\, 08:30-10:00 Uhr (Online)\n\nErstellung von Persona Profilen und Customer Journey\nBest Practices für zielgerichtete Ansprache von Wunschkund:innen\nContentplanung für Instagram & weitere Socials\nStrategische Marketingplanung mit KI\nEntwicklung & Umsetzung von KI-Kampagnen (z. B. Myopiemanagement\, Arbeitsplatzbrillen\, Augenscreening)\n\n\n\n\n🌟 Zielgruppe\nAugenoptiker:innen\, Inhaber:innen und Mitarbeitende\, die KI strategisch im augenoptischen Umfeld nutzen möchten. \n\n\n\n🔍 Ihr Nutzen\n\nPraktische Anwendungstipps für KI-Werkzeuge ChatGPT und Perplexity\nPromptingvorlagen zur direkten Umsetzung fürs Marketing in der Augenoptik\nPraxiswissen für bessere Sichtbarkeit & Kundengewinnung\nEntwicklung typischer Kundenprofile und Ansprachestrategien\nNachhaltige Umsetzung mit direkter Anwendung\n\n\n\n\n🧠 Methodik\n\nImpulse\, Live-Demos & Übungsanleitungen\nGruppenaustausch & individuelle Reflexion\nPraxisaufgaben zwischen den Webinaren\n\n\n\n\n👩‍💼 Ihr KI Trainerteam stellt sich vor:\n👩 Sandra Schubert\nVertriebs​‑ und KI​‑Praxisexpertin mit über 35 Jahren Erfahrung im Verkauf & Marketing\, davon 15 Jahre spezifisch in der Augenoptik. Zertifizierte KI​‑Marketing​‑ und Digital Sales Managerin. Erfahrene Webinarleiterin und beliebte Impulsrednerin\, sowie Trainerin. Sandra sorgt mit Humor und Praxisorientierung für den SCHUBs Richtung Verkaufserfolg! \n👨 Christian Tilleke\nAugenoptikmeister (20 Jahre Erfahrung) mit BWL​‑Master und Stationen bei Carl​ Zeiss\, Luxottica\, MunicEyewear. Unternehmer: Social Media Agentur Pacemaker\, Dienstleister und Experte für Social Media und KI im Marketing. \n\n\n\n💶 Preis & Leistungen\n\n790 € netto zzgl. MwSt. für die Live Teilnahme von bis zu 2 Teilnehmer:innen pro Unternehmen\nInklusive Aufzeichnungen der 4 Webinare und Unterlagen\n\n\n\n\n✅ Anmeldung & Kontakt\nJetzt Platz sichern per E-Mail: kontakt@schubs.com\nKontakt: kontakt@schubs.com | Tel. 08031 67228
URL:https://schubs.com/event/ki-praxistraining-fuer-augenoptiker/
LOCATION:Online
CATEGORIES:Webinar
ATTACH;FMTTYPE=image/png:https://schubs.com/wp-content/uploads/KI-Bild-Chat-GPT-KI-Marketingtraining-fuer-Augenoptiker.png
ORGANIZER;CN="SCHUBs Vertriebskonzepte":MAILTO:kontakt@schubs.com
END:VEVENT
END:VCALENDAR