BEGIN:VCALENDAR
VERSION:2.0
PRODID:-//SCHUBs Vertriebskonzepte - ECPv6.15.20//NONSGML v1.0//EN
CALSCALE:GREGORIAN
METHOD:PUBLISH
X-ORIGINAL-URL:https://schubs.com
X-WR-CALDESC:Veranstaltungen für SCHUBs Vertriebskonzepte
REFRESH-INTERVAL;VALUE=DURATION:PT1H
X-Robots-Tag:noindex
X-PUBLISHED-TTL:PT1H
BEGIN:VTIMEZONE
TZID:Europe/Berlin
BEGIN:DAYLIGHT
TZOFFSETFROM:+0100
TZOFFSETTO:+0200
TZNAME:CEST
DTSTART:20250330T010000
END:DAYLIGHT
BEGIN:STANDARD
TZOFFSETFROM:+0200
TZOFFSETTO:+0100
TZNAME:CET
DTSTART:20251026T010000
END:STANDARD
BEGIN:DAYLIGHT
TZOFFSETFROM:+0100
TZOFFSETTO:+0200
TZNAME:CEST
DTSTART:20260329T010000
END:DAYLIGHT
BEGIN:STANDARD
TZOFFSETFROM:+0200
TZOFFSETTO:+0100
TZNAME:CET
DTSTART:20261025T010000
END:STANDARD
BEGIN:DAYLIGHT
TZOFFSETFROM:+0100
TZOFFSETTO:+0200
TZNAME:CEST
DTSTART:20270328T010000
END:DAYLIGHT
BEGIN:STANDARD
TZOFFSETFROM:+0200
TZOFFSETTO:+0100
TZNAME:CET
DTSTART:20271031T010000
END:STANDARD
END:VTIMEZONE
BEGIN:VEVENT
DTSTART;TZID=Europe/Berlin:20260511T083000
DTEND;TZID=Europe/Berlin:20260601T100000
DTSTAMP:20260422T024209
CREATED:20250717T145359Z
LAST-MODIFIED:20260415T123941Z
UID:7075-1778488200-1780308000@schubs.com
SUMMARY:KI Webinarreihe Unternehmerpraxis für Augenoptiker
DESCRIPTION:﻿3-teilige Webinar-Serie: KI Unternehmertraining für Augenoptiker\nDen Überblick behalten\, smart organisieren und führen\, rentabel wirtschaften – mit KI Power für Ihre Unternehmensführung \nDieses praxisorientierte Seminar vermittelt Ihnen nicht nur einen umfangreichen Mix aus KI und betriebswirtschaftlichen Wissen. Sie lernen darüber hinaus\, KI gezielt in der Organisation\, im Controlling und in der Mitarbeiterführung Ihres augenoptischen Unternehmens einzusetzen.\nDadurch schonen Sie Ihre Ressourcen und führen Ihr Unternehmen intelligenter und gleichzeitig menschenfreundlicher. \n\n\n\n🗓 Ablauf & Inhalte\nWebinar 1: Personal & Führung\n11. Mai 26 08:30-10:00 Uhr \nSmart führen und Personal gewinnen mit KI \n\nMitarbeitergespräche und Teammeetings vor- und nachbereiten mit KI\nDie KI als Führungs- & Kommunikationscoach\nMit KI Stellenausschreibungen attraktiv gestalten\nEmployer Branding und Social Media für Mitarbeitergewinnung\nIhr Team fit machen für die digitale und persönliche Interaktion mit Kunden\n\nWebinar 2: Kundenfeedback & Zufriedenheit\n18. Mai 26 08:30-10:0 Uhr \nDie Zufriedenheit der Kunden analysieren & steigern \n\nKI-gestützte Analyse der Online-Bewertungen\nErstellen SWOT Analyse auf Basis von Kundenfeedback\nPraktische Tools zur Erhebung von Kundenfeedback\nTipps zum Einholen von Referenzen – online und persönlich\n\nWebinar 3: Betriebswirtschaftliche Auswertung & Renditeoptimierung\n01. Juni 26 08:30 – 10:00 Uhr \nDatengetriebene Entscheidungen im Augenoptik-Betrieb \n\nKI-gestützte Betriebsauswertung: Umsatz\, Kunden\, Sortiment\nLieferantengespräche strategisch vorbereiten mit KI-Analysen\nBrillentrends und Kundenverhalten intelligent auswerten & nutzen\nLagerhaltung und Einkauf optimieren durch smarte Datennutzung\n\n\n\n\n🌟 Zielgruppe\nAugenoptiker:innen\, Inhaber:innen und Marketingverantwortliche\, die KI strategisch im augenoptischen Umfeld nutzen möchten. \n\n\n\n🔍 Ihr Nutzen\n\nPraktische Anwendungstipps für KI-Werkzeuge ChatGPT und Perplexity\nPromptingvorlagen zur direkten Umsetzung für die augenoptische Unternehmensführung\nPraktische Lösungsvorschläge für spezifische Herausforderungen der Branche\nKI Kompetenz für Führung\, Customer Excellence und BWL aufbauen\nNachhaltige Umsetzung mit direkter Anwendung\nIndividuelle Vertiefung Dank Coaching möglich (1 Stunde enthalten)\n\n\n\n\n🧠 Methodik\n\nImpulse\, Live-Demos & Übungsanleitungen\nGruppenaustausch & individuelle Reflexion\nPraxisaufgaben zwischen den Webinaren\n\n\n\n\n👩‍💼 Ihr KI Trainerteam stellt sich vor:\n👩 Sandra Schubert\nUnternehmerin\, Betriebswirtin und KI​‑Praxisexpertin mit über 35 Jahren Erfahrung in der Kommunikation\, davon 15 Jahre spezifisch in der Augenoptik. Erfahrene Webinarleiterin und beliebte Impulsrednerin\, sowie Trainerin – sorgt mit Humor und Praxisorientierung für den SCHUBs Richtung Unternehmenserfolg! \n👨 Christian Tilleke\nAugenoptikmeister (20 Jahre Erfahrung) mit BWL​‑Master und Stationen bei Carl​ Zeiss\, Luxottica\, MunicEyewear. Unternehmer: Agentur Pacemaker mit einer stetig wachsenden Mitarbeiterzahl\, Dienstleister und Experte für Social Media und KI. \n\n\n\n💶 Preis & Leistungen\n\n790 € netto zzgl. MwSt. für die Live Teilnahme von bis zu 2 Teilnehmer:innen pro Unternehmen\nInklusive Aufzeichnungen der 3 Webinare\, Unterlagen und einem einstündigen Coaching zu einem vertiefenden Thema nach Wunsch\n\n\n\n\n✅ Anmeldung & Kontakt\nJetzt Platz sichern per E-Mail: kontakt@schubs.com\nKontakt: kontakt@schubs.com | Tel. 08031 67228
URL:https://schubs.com/event/ki-unternehmertraining-fuer-augenoptiker-2/
LOCATION:Online
CATEGORIES:Webinar
ATTACH;FMTTYPE=image/png:https://schubs.com/wp-content/uploads/Virtuelles-Unternehmer-Training-zur-KI-fuer-Optiker.png
ORGANIZER;CN="SCHUBs Vertriebskonzepte":MAILTO:kontakt@schubs.com
END:VEVENT
BEGIN:VEVENT
DTSTART;TZID=Europe/Berlin:20260512T083000
DTEND;TZID=Europe/Berlin:20260602T100000
DTSTAMP:20260422T024209
CREATED:20260121T155505Z
LAST-MODIFIED:20260415T124409Z
UID:7144-1778574600-1780394400@schubs.com
SUMMARY:KI Marketing​‑Praxistraining  für Augenoptiker
DESCRIPTION:4-teilige Webinar-Serie: KI Kompetenz & Marketing​‑Training für Augenoptiker\nMehr Sichtbarkeit\, mehr Content\, mehr Kunden – mit KI KnowHow & Power für Ihr Marketing \nDieses praxisorientierte Seminar vermittelt Ihnen nicht nur einen umfangreichen Mix aus KI und Marketingwissen. Sie lernen darüber hinaus\, KI gezielt in der Vermarktung Ihres augenoptischen Unternehmens einzusetzen.\nDadurch steigern Sie Ihre Sichtbarkeit\, schärfen Ihre Positionierung und sprechen Ihre Wunschkunden gezielt an – für effizienteres Marketing\, mehr Kundenkontakt und ein kompetentes\, innovatives Markenimage. \n\n\n\n🗓 Ablauf & Inhalte\nWebinar 1 – Chancen und Wettbewerbsvorteile mit KI erkennen\nDi 12. Mai\, 08:30-10:00 Uhr (Online)\n\nEinführung in die generative KI – Chancen und Grenzen\nAnwendungsbeispiele für die KI-Nutzung im augenoptischen Fachgeschäft\nFunktionsweise von LLMs (Large Language Models) und Toolüberblick\nEffektives Prompting für ChatGPT & Co.\n\nWebinar 2 – Mit KI neuen Schwung ins Marketing bringen\nDi 19. Mai\, 08:30-10:00Uhr (Online)\n\nProfessionell mit den einzelnen Modellen & Funktionen von Chat GPT arbeiten\nIndividualisierung von Chat GPT für mehr Kontext & authentischen Content\nFortgeschrittene Promptingmethoden\nKreative KI-Nutzung für Social Media & Content\nTextbearbeitung mit KI (Canvas Modus)\n\nWebinar 3 – Die KI für Recherche & Analyse\nDi 2. Juni\, 08:30-10:00 Uhr (Online)\n\nEinfluss von KI auf das Kundenverhalten: KI-Search und was sich dadurch ändert\nWie eine Customer Journey funktioniert\nAus SEO wird GEO: Nur wer gefunden wird\, landet auf der Shopping-Liste der Generation Prompt\nEigene Online-Präsenz mit KI analysieren & optimieren\nRecherche Prompts für Wettbewerbsanalyse\nProjektbezogenes Arbeiten mit KI\n\nWebinar 4 – Die KI als Marketingstratege\n26. März\, 08:30-10:00 Uhr (Online)\n\nErstellung von Persona Profilen und Customer Journey\nBest Practices für zielgerichtete Ansprache von Wunschkund:innen\nContentplanung für Instagram & weitere Socials\nStrategische Marketingplanung mit KI\nEntwicklung & Umsetzung von KI-Kampagnen (z. B. Myopiemanagement\, Arbeitsplatzbrillen\, Augenscreening)\n\n\n\n\n🌟 Zielgruppe\nAugenoptiker:innen\, Inhaber:innen und Mitarbeitende\, die KI strategisch im augenoptischen Umfeld nutzen möchten. \n\n\n\n🔍 Ihr Nutzen\n\nPraktische Anwendungstipps für KI-Werkzeuge ChatGPT und Perplexity\nPromptingvorlagen zur direkten Umsetzung fürs Marketing in der Augenoptik\nPraxiswissen für bessere Sichtbarkeit & Kundengewinnung\nEntwicklung typischer Kundenprofile und Ansprachestrategien\nNachhaltige Umsetzung mit direkter Anwendung\n\n\n\n\n🧠 Methodik\n\nImpulse\, Live-Demos & Übungsanleitungen\nGruppenaustausch & individuelle Reflexion\nPraxisaufgaben zwischen den Webinaren\n\n\n\n\n👩‍💼 Ihr KI Trainerteam stellt sich vor:\n👩 Sandra Schubert\nVertriebs​‑ und KI​‑Praxisexpertin mit über 35 Jahren Erfahrung im Verkauf & Marketing\, davon 15 Jahre spezifisch in der Augenoptik. Zertifizierte KI​‑Marketing​‑ und Digital Sales Managerin. Erfahrene Webinarleiterin und beliebte Impulsrednerin\, sowie Trainerin. Sandra sorgt mit Humor und Praxisorientierung für den SCHUBs Richtung Verkaufserfolg! \n👨 Christian Tilleke\nAugenoptikmeister (20 Jahre Erfahrung) mit BWL​‑Master und Stationen bei Carl​ Zeiss\, Luxottica\, MunicEyewear. Unternehmer: Social Media Agentur Pacemaker\, Dienstleister und Experte für Social Media und KI im Marketing. \n\n\n\n💶 Preis & Leistungen\n\n790 € netto zzgl. MwSt. für die Live Teilnahme von bis zu 2 Teilnehmer:innen pro Unternehmen\nInklusive Aufzeichnungen der 4 Webinare und Unterlagen\n\n\n\n\n✅ Anmeldung & Kontakt\nJetzt Platz sichern per E-Mail: kontakt@schubs.com\nKontakt: kontakt@schubs.com | Tel. 08031 67228
URL:https://schubs.com/event/ki-praxistraining-fuer-augenoptiker-2/
LOCATION:Online
CATEGORIES:Webinar
ATTACH;FMTTYPE=image/png:https://schubs.com/wp-content/uploads/KI-Bild-Chat-GPT-KI-Marketingtraining-fuer-Augenoptiker.png
ORGANIZER;CN="SCHUBs Vertriebskonzepte":MAILTO:kontakt@schubs.com
END:VEVENT
END:VCALENDAR