BEGIN:VCALENDAR
VERSION:2.0
PRODID:-//SCHUBs Vertriebskonzepte - ECPv6.15.20//NONSGML v1.0//EN
CALSCALE:GREGORIAN
METHOD:PUBLISH
X-ORIGINAL-URL:https://schubs.com
X-WR-CALDESC:Veranstaltungen für SCHUBs Vertriebskonzepte
REFRESH-INTERVAL;VALUE=DURATION:PT1H
X-Robots-Tag:noindex
X-PUBLISHED-TTL:PT1H
BEGIN:VTIMEZONE
TZID:Europe/Berlin
BEGIN:DAYLIGHT
TZOFFSETFROM:+0100
TZOFFSETTO:+0200
TZNAME:CEST
DTSTART:20240331T010000
END:DAYLIGHT
BEGIN:STANDARD
TZOFFSETFROM:+0200
TZOFFSETTO:+0100
TZNAME:CET
DTSTART:20241027T010000
END:STANDARD
BEGIN:DAYLIGHT
TZOFFSETFROM:+0100
TZOFFSETTO:+0200
TZNAME:CEST
DTSTART:20250330T010000
END:DAYLIGHT
BEGIN:STANDARD
TZOFFSETFROM:+0200
TZOFFSETTO:+0100
TZNAME:CET
DTSTART:20251026T010000
END:STANDARD
BEGIN:DAYLIGHT
TZOFFSETFROM:+0100
TZOFFSETTO:+0200
TZNAME:CEST
DTSTART:20260329T010000
END:DAYLIGHT
BEGIN:STANDARD
TZOFFSETFROM:+0200
TZOFFSETTO:+0100
TZNAME:CET
DTSTART:20261025T010000
END:STANDARD
END:VTIMEZONE
BEGIN:VEVENT
DTSTART;TZID=Europe/Berlin:20250514T133000
DTEND;TZID=Europe/Berlin:20250515T173000
DTSTAMP:20260423T181627
CREATED:20250506T152758Z
LAST-MODIFIED:20250506T152758Z
UID:7012-1747229400-1747330200@schubs.com
SUMMARY:KI im Content Marketing effektiv einsetzen
DESCRIPTION:KI im Content Marketing effektiv einsetzen\n\nIn dieser Schulung für Teilnehmende mit ersten KI Erfahrungen lernen Sie\, wie Sie mit KI interessanten und authentischen Marketing-Content generieren\, der Ihre Marke wieder erkennbar macht und zum Strahlen bringt.\nWir zeigen Ihnen außerdem\, wie Sie diese Inhalte mit Hilfe von KI in die richtige Form für jede Social Media Plattform bringen\, und so mit minimalem Aufwand maximale Sichtbarkeit und Reichweite erzielen. \nIhr Nutzen: Sie erschließen sich neue Kundenpotentiale\, bauen Follower auf und sichern sich so die beste Ausgangslage um digital Leads und Kunden zu gewinnen. \n✅ Die digitale Customer Journey:\nÜberblick über KI Anwendungen und Tools im Marketing\n✅ Content Marketing next Level: wie Sie mit KI gute Texte und Bilder designen\n✅ Brand Voice: lernen Sie den Ausdrucksstil Ihres Unternehmens noch besser zu definieren\nund einen Customized GPT anzulegen. Ein wahrer Boost für Ihre Effizienz und die Steigerung Ihrer Markenidentität.\n✅ KI Bildsprache – mit Prompting Exzellenz Bilder designen (Chat GPT und Midjourney) und für einen\nkonsistenten Markenauftritt sorgen.\n✅ Content Repurposing – aus einmaligem Input\, maximalen Content Output generieren (z.B. für LinkedIn\, Instagram\, Blog\, Online-PR….) \n✅ Demo KI und Automatisierung: wie Sie KI Content einfach und kontinuierlich automatisiert posten können. \nDetails zur Schulung  KI im Content Marketing: \n\nDauer: Mi 14.05. 13:30-17:30 und Do 15.05. 13:30-17:30 Uhr\nFormat: Interaktives Online-Seminar – Trainerinput und Anwendungsübungen\nInvestition: 680€ pro Teilnehmenden inkl. MwSt Frühbucherpreis bis 24. April\ndanach 790€ pro Teilnehmenden incl. MwSt\nSpecialpreis für 2. Teilnehmenden 680€ inkl. MwSt (unabhängig vom Zeitpunkt der Anmeldung\, bei gleicher Rechnungsadresse)\nStornierungsbedingungen:\nEine Stornierung ist bis 14 Tage vor Veranstaltungsbeginn möglich. In diesem Fall fallen Stornogebühren in Höhe von 40 % des Ticketpreises an. Bei späteren Stornierungen oder Nichterscheinen ist eine Rückerstattung leider nicht möglich. Die Nennung einer Ersatzperson ist jederzeit kostenfrei möglich.\nInklusive: Ausführliches Skript „KI im Content Marketing“ \, Teilnehmer-Zertifikat\nBonus: nach der KI Schulung KI im Content Marketing findet eine Live-Fragestunde am 30.05. um 11:00 Uhr statt\, um sicher zu stellen\, dass alle Teilnehmenden das KI Wissen auch wirklich im Alltag anwenden können.\n\nNutzen Sie dieses Special zum Thema KI im Content Marketing\, um die KI-und Vermarktungs-Kompetenzen Ihrer Firma zu erweitern. Sie profitieren  von einer sofort spürbaren Steigerung der Produktivität in Ihrem Marketing! \nJetzt anmelden per E-Mail an kontakt@schubs.com \nIhre Trainer*innen stellen sich vor: \nAls langjährige Vertriebsexpertin ist Sandra Schubert darauf spezialisiert\, für Unternehmen effiziente Strategien zur Kundengewinnung zu entwickeln. Für die zertifizierte KI Marketing Managerin ist es essentiell\, einen strategischen Überblick zu geben und sofort anwendbares KI Spezialwissen zu vermitteln\, welches für starke Synergien zwischen Marketing und Vertrieb und zwischen menschlicher und künstlicher Kreativität sorgt. Mehr Infos auf www.schubs.com/Ki-Kompetenz/ \nAlexander Führen setzt seit mehreren Jahren KI und Automatisierung erfolgreich für verschiedene Vermarktungsplattformen ein. Mit seinem Praxiswissen aus dem E-Commerce unterstützt er mittelständische Unternehmen und Marketingagenturen bei der KI-Integration und Anwendung. Alex verfügt über enormes Marketing Wissen. Seine Leidenschaft ist es\, mit KI und Automatisierung\, Arbeitsabläufe im Content Marketing zu beschleunigen und die Wirksamkeit zu steigern. Mehr Infos auf www.enlight-x.com. \n 
URL:https://schubs.com/event/ki-schulung-im-content-marketing/
LOCATION:Online
CATEGORIES:Webinar
ATTACH;FMTTYPE=image/png:https://schubs.com/wp-content/uploads/A_2b918938-d787-4016-8d7d-efc39e3f1f51_neuroflash-Use_Case_Realistic_photoGive_me_a_picture_for__1739457027.png
ORGANIZER;CN="Sandra Schubert SCHUBs Vertriebskonzepte":MAILTO:kontakt@schubs.com
END:VEVENT
END:VCALENDAR