BEGIN:VCALENDAR
VERSION:2.0
PRODID:-//SCHUBs Vertriebskonzepte - ECPv6.15.20//NONSGML v1.0//EN
CALSCALE:GREGORIAN
METHOD:PUBLISH
X-ORIGINAL-URL:https://schubs.com
X-WR-CALDESC:Veranstaltungen für SCHUBs Vertriebskonzepte
REFRESH-INTERVAL;VALUE=DURATION:PT1H
X-Robots-Tag:noindex
X-PUBLISHED-TTL:PT1H
BEGIN:VTIMEZONE
TZID:Europe/Berlin
BEGIN:DAYLIGHT
TZOFFSETFROM:+0100
TZOFFSETTO:+0200
TZNAME:CEST
DTSTART:20240331T010000
END:DAYLIGHT
BEGIN:STANDARD
TZOFFSETFROM:+0200
TZOFFSETTO:+0100
TZNAME:CET
DTSTART:20241027T010000
END:STANDARD
BEGIN:DAYLIGHT
TZOFFSETFROM:+0100
TZOFFSETTO:+0200
TZNAME:CEST
DTSTART:20250330T010000
END:DAYLIGHT
BEGIN:STANDARD
TZOFFSETFROM:+0200
TZOFFSETTO:+0100
TZNAME:CET
DTSTART:20251026T010000
END:STANDARD
BEGIN:DAYLIGHT
TZOFFSETFROM:+0100
TZOFFSETTO:+0200
TZNAME:CEST
DTSTART:20260329T010000
END:DAYLIGHT
BEGIN:STANDARD
TZOFFSETFROM:+0200
TZOFFSETTO:+0100
TZNAME:CET
DTSTART:20261025T010000
END:STANDARD
END:VTIMEZONE
BEGIN:VEVENT
DTSTART;TZID=Europe/Berlin:20250410T133000
DTEND;TZID=Europe/Berlin:20250410T173000
DTSTAMP:20260424T004427
CREATED:20250218T085558Z
LAST-MODIFIED:20250304T100338Z
UID:6767-1744291800-1744306200@schubs.com
SUMMARY:KI Kompetenz Schulung - von der Basis zum Business
DESCRIPTION:KI Kompakt – wertvolles Basiswissen für Ihr Business \nMöchten Sie verstehen\, wie Künstliche Intelligenz funktioniert und wie Sie sie gewinnbringend in Ihrem Unternehmen einsetzen können? \nIn dieser KI Grundlagen Schulung wird ein grundlegendes Verständnis für die effektive Anwendung von KI und deren Einsatzmöglichkeiten vermittelt. Anhand von praktischen Ansätzen lernen Ihre Mitarbeitenden den Umgang mit ChatGPT und anderen KI Tools im Business kennen. \nDiese KI-Grundlagenschulung vermittelt das essenzielle Wissen\, um KI Tools sicher und effektiv in Ihren Business-Alltag zu integrieren.\nDamit erfüllen Sie Ihre Pflichten bzgl. KI Kompetenz als Unternehmen gemäß Artikel 4 der KI-EU-Verordnung. \nInhalte der Schulung: \n\n👉 KI-Tools und ihre Einsatzzwecke\n👉 Praktische Anwendung von KI-Tools im Sales und Marketing\n👉 Integration von KI in den Arbeitsalltag\n👉 Business Case Check: Wo lohnt sich der Einsatz von KI?\n👉 Do’s & Dont’s\, sowie Unterschiede zwischen verschiedenen KI-Lösungen\n\nDetails zur Schulung: \n\nDauer: 4 Stunden (13:30 – 17:30 Uhr)\nFormat: Interaktives Online-Seminar – Trainerinput und Anwendungsübungen\nKosten: 490\,- € pro Teilnehmenden (incl. MwSt) Frühbuchertarif bis zum 21.03.25\, danach 570\,-€ pro Teilnehmenden (incl. MwSt)\n2. Teilnehmer 490\,-€ (incl. MwSt bei gleicher Rechnungsadresse)\, unabhängig vom Zeitpunkt der Anmeldung\nInklusive: Ausführliches Skript „KI im Business Basic“\, Teilnehmer-Zertifikat\nBonus: nach der KI Schulung findet eine Live-Fragestunde am 25.04. um 11:00 Uhr statt\, um sicher zu stellen\, dass alle Teilnehmenden das KI Wissen auch wirklich im Alltag anwenden können.\n\nNutzen Sie diese Schulungs-Gelegenheit\, um die KI-Kompetenzen Ihrer Mitarbeitenden zu erweitern und profitieren Sie von einer sofort spürbaren Steigerung der Produktivität in Ihrem Unternehmen! \nJetzt anmelden per E-Mail an kontakt@schubs.com \nIhre Trainer*innen stellen sich vor: \nSandra Schubert verfügt über 30 Jahre Trainingserfahrung und kennt aus ihrer langjährigen Beratertätigkeit den Arbeitsalltag von mittelständischen Unternehmen und deren Herausforderungen. Die zertifizierte KI Marketing Managerin bezeichnet sich selbst als enthusiastische KI Pragmatikerin. Für Sandra Schubert ist es essentiell\, praktisches KI Wissen zu vermitteln\, welches für starke Synergien zwischen Humaner und Künstlicher Intelligenz sorgt. Die SCHUBs ist außerdem für ihre abwechslungsreiche und teilnehmerorientierte Trainingsmethodik bekannt. \nAlexander Führen ist ein erfahrener E-Commerce-Unternehmer\, der seit mehreren Jahren KI und Automatisierung erfolgreich in seiner Firma einsetzt. Mit seinem Praxiswissen trainiert und unterstützt er mittelständische Unternehmen und Marketingagenturen bei der KI-Integration und Anwendung. Alex verfügt über enormes Prozesswissen. Sein Faible ist es\, mit KI und Automatisierung Arbeitsabläufe zu beschleunigen und die unternehmerische Schlagkraft zu erhöhen.
URL:https://schubs.com/event/ki-kompetenz-schulung-grundlagen/
LOCATION:Online
ATTACH;FMTTYPE=image/png:https://schubs.com/wp-content/uploads/KI-Kompetenz-Grundlagenschulung.png
ORGANIZER;CN="Sandra Schubert SCHUBs Vertriebskonzepte":MAILTO:kontakt@schubs.com
END:VEVENT
END:VCALENDAR