BEGIN:VCALENDAR
VERSION:2.0
PRODID:-//SCHUBs Vertriebskonzepte - ECPv6.15.20//NONSGML v1.0//EN
CALSCALE:GREGORIAN
METHOD:PUBLISH
X-ORIGINAL-URL:https://schubs.com
X-WR-CALDESC:Veranstaltungen für SCHUBs Vertriebskonzepte
REFRESH-INTERVAL;VALUE=DURATION:PT1H
X-Robots-Tag:noindex
X-PUBLISHED-TTL:PT1H
BEGIN:VTIMEZONE
TZID:Europe/Berlin
BEGIN:DAYLIGHT
TZOFFSETFROM:+0100
TZOFFSETTO:+0200
TZNAME:CEST
DTSTART:20230326T010000
END:DAYLIGHT
BEGIN:STANDARD
TZOFFSETFROM:+0200
TZOFFSETTO:+0100
TZNAME:CET
DTSTART:20231029T010000
END:STANDARD
BEGIN:DAYLIGHT
TZOFFSETFROM:+0100
TZOFFSETTO:+0200
TZNAME:CEST
DTSTART:20240331T010000
END:DAYLIGHT
BEGIN:STANDARD
TZOFFSETFROM:+0200
TZOFFSETTO:+0100
TZNAME:CET
DTSTART:20241027T010000
END:STANDARD
BEGIN:DAYLIGHT
TZOFFSETFROM:+0100
TZOFFSETTO:+0200
TZNAME:CEST
DTSTART:20250330T010000
END:DAYLIGHT
BEGIN:STANDARD
TZOFFSETFROM:+0200
TZOFFSETTO:+0100
TZNAME:CET
DTSTART:20251026T010000
END:STANDARD
END:VTIMEZONE
BEGIN:VEVENT
DTSTART;TZID=Europe/Berlin:20241212T160000
DTEND;TZID=Europe/Berlin:20241212T200000
DTSTAMP:20260425T123345
CREATED:20241108T134927Z
LAST-MODIFIED:20241118T144145Z
UID:6667-1734019200-1734033600@schubs.com
SUMMARY:Künstliche Intelligenz Training für Sales & Marketing
DESCRIPTION:Stellen Sie sich vor\, Sie hätten einen Assistenten\, der Ihnen die Content-Erstellung abnimmt\, automatisch Beiträge auf LinkedIn & Co. postet und sogar passende Bilder generiert. In unserem KI-Kompetenztraining erfahren Sie wie! Entdecken Sie\, wie Sie KI für Ihre unternehmerische Produktivität nutzen können. \n\n\n\n\nErleben Sie\, wie Künstliche Intelligenz Sales und Marketing transformiert\n\n\n\nMöchten Sie Ihre Marketing und Sales Prozesse mit KI revolutionieren? Erhalten Sie wertvolle Einblicke und praxisnahe Anleitungen\, wie KI Ihre Produktivität steigern kann – und das noch vor Weihnachten!\n\n\n\n\n\n\n\n\nDas erwartet Sie\n\n\n\n\n\n\n\nEffiziente Content-Erstellung: Erlernen Sie\, wie Sie mit KI-Tools wie ChatGPT in wenigen Minuten überzeugende Inhalte für LinkedIn und Co. erstellen.\nAutomatisierung wiederkehrender Aufgaben: Entdecken Sie\, wie Automatisierung zeitraubende Marketing- und Salesaufgaben übernimmt\, damit Sie sich auf strategische Ziele konzentrieren können.\nVisuelle Inhalte ohne Aufwand generieren: Lernen Sie\, wie KI passende Bilder und Grafiken erstellt\, die perfekt zu Ihren Marketingkampagnen passen.\nPraxisnahe Einblicke: Erhalten Sie konkrete\, direkt anwendbare Fallbeispiele aus dem Alltag erfolgreicher Unternehmer und KI-Experten.\nVernetzung mit Gleichgesinnten: Tauschen Sie sich mit anderen Unternehmern und Entscheidern über Erfahrungen\, Herausforderungen und Lösungsansätze im Bereich KI aus.\n\nWeitere Infos zur Agenda und zu den KI Referenten Sandra Schubert\, Alexander Führen und Thomas Federkiel finden Sie auf der Veranstaltungsseite unter\nhttps://enlight-x.com/ki-in-sales-und-marketing-unternehmertraining/ \n\n\nSichern Sie sich Ihr Ticket für „So geht Sales & Marketing mit Künstlicher Intelligenz“ und entdecken Sie\, wie Sie die Möglichkeiten der Künstlichen Intelligenz gezielt in Ihrem Unternehmen nutzen können. \nPreis: 79 € zzgl. MwSt. pro Ticket\, 2. Teilnehmer:in vergünstigt \nBuchen Sie Ihr Ticket auf https://eveeno.com/sales-marketing-ki
URL:https://schubs.com/event/kuenstliche-intelligenz-training-fuer-sales-marketing/
LOCATION:Stellwerk 18\, Rosenheim\, 83022\, Germany
ATTACH;FMTTYPE=image/jpeg:https://schubs.com/wp-content/uploads/ChatGPT-Einsatzmoeglichkeiten-1-300x169-1.jpg
ORGANIZER;CN="Sandra Schubert SCHUBs Vertriebskonzepte":MAILTO:kontakt@schubs.com
END:VEVENT
END:VCALENDAR